BEGIN:VCALENDAR
VERSION:2.0
PRODID:-//Rice Center for Engineering Leadership - ECPv6.15.15//NONSGML v1.0//EN
CALSCALE:GREGORIAN
METHOD:PUBLISH
X-ORIGINAL-URL:https://www.rcelconnect.org
X-WR-CALDESC:Events for Rice Center for Engineering Leadership
REFRESH-INTERVAL;VALUE=DURATION:PT1H
X-Robots-Tag:noindex
X-PUBLISHED-TTL:PT1H
BEGIN:VTIMEZONE
TZID:UTC
BEGIN:STANDARD
TZOFFSETFROM:+0000
TZOFFSETTO:+0000
TZNAME:UTC
DTSTART:20110101T000000
END:STANDARD
END:VTIMEZONE
BEGIN:VEVENT
DTSTART;TZID=UTC:20140904T180000
DTEND;TZID=UTC:20140904T200000
DTSTAMP:20260424T080653
CREATED:20151104T204920Z
LAST-MODIFIED:20151104T204920Z
UID:1147-1409853600-1409860800@www.rcelconnect.org
SUMMARY:RCEL's Hot Tips on Internships
DESCRIPTION:Join the Rice Center for Engineering Leadership as current Rice students tell about their internship experiences and industry representatives give insights on looking for and securing an internship. Faculty and staff will share information on Rice resources for internships and professional placement\, too. \nJoin other students and corporate representatives in a networking reception where you might just make the connection for a great internship for next summer!
URL:https://www.rcelconnect.org/event/rcels-hot-tips-on-internships/
LOCATION:Duncan Hall
ORGANIZER;CN="Rice Center for Engineering Leadership":MAILTO:rcel@rice.edu
END:VEVENT
BEGIN:VEVENT
DTSTART;TZID=UTC:20140416T163000
DTEND;TZID=UTC:20140416T193000
DTSTAMP:20260424T080653
CREATED:20151105T193243Z
LAST-MODIFIED:20151105T193243Z
UID:1148-1397665800-1397676600@www.rcelconnect.org
SUMMARY:Rice Undergraduate Research Symposium
DESCRIPTION:The Rice Undergraduate Research Symposium will be held April 16th but deadline to sign up if you want to participate is Feb. 28th. Since more than 2/3 of Engineering undergrads do research before they graduate\, there are some good posters and potential posters out there that should be in the symposium. Participating gives you good practice in explaining to others what it is you are doing in research — particularly valuable if you’re planning on attending grad school! Find out more here: http://ofur.rice.edu/content.aspx?id=4294967413.
URL:https://www.rcelconnect.org/event/rice-undergraduate-research-symposium/
LOCATION:Shell Auditorium\, Jones School
ORGANIZER;CN="Rice Center for Engineering Leadership":MAILTO:rcel@rice.edu
END:VEVENT
BEGIN:VEVENT
DTSTART;TZID=UTC:20140320T080000
DTEND;TZID=UTC:20140322T170000
DTSTAMP:20260424T080653
CREATED:20151105T193905Z
LAST-MODIFIED:20151105T200258Z
UID:1150-1395302400-1395507600@www.rcelconnect.org
SUMMARY:COMPLETE Leadership Conference 2014
DESCRIPTION:“Developing Engineering Leaders: Effectiveness in the First Five\,” will be hosted at Rice University and organized by the Rice Center for Engineering Leadership (RCEL)\, and will consist of interactive educational workshops\, plenaries\, networking exercises\, and motivational reflections from distinguished engineers who are positively impacting the world today. \nThe Conference will also bring together more than 14 Engineering Leadership Centers in the U.S. and Canada\, professional engineering centers from leading engineering organizations\, renowned industry leaders\, and members of the National Academy of Engineering and the American Society of Engineering Educators. \nInformation:  http://complete2014.org
URL:https://www.rcelconnect.org/event/complete-leadership-conference-2014/
END:VEVENT
BEGIN:VEVENT
DTSTART;TZID=UTC:20140314T120000
DTEND;TZID=UTC:20140314T130000
DTSTAMP:20260424T080653
CREATED:20151105T194148Z
LAST-MODIFIED:20151105T221023Z
UID:1152-1394798400-1394802000@www.rcelconnect.org
SUMMARY:RCEL Graduate Forum: From PhD to Industry
DESCRIPTION:From PhD to Industry:  How to Build Your Graduate Experience towards an UNCONVENTIONALLY Successful Engineering Career \nThree distinguished panelists will speak from R&D experience: \n\nChuck Newell\, GSI Environmental Vice President\nWendy Hoenig\, Former Dow Chemical Global R&R Director\nRay Simar\, Former Texas Instruments Engineering Fellow
URL:https://www.rcelconnect.org/event/rcel-graduate-forum-from-phd-to-industry/
LOCATION:Duncan Hall
ORGANIZER;CN="Rice Center for Engineering Leadership":MAILTO:rcel@rice.edu
END:VEVENT
BEGIN:VEVENT
DTSTART;TZID=UTC:20140226T190000
DTEND;TZID=UTC:20140226T220000
DTSTAMP:20260424T080653
CREATED:20151105T194428Z
LAST-MODIFIED:20151105T194428Z
UID:1153-1393441200-1393452000@www.rcelconnect.org
SUMMARY:reddit.com found Alexis O'Hanion Talk and Book-signing
DESCRIPTION:RCEL invites you to an evening with reddit.com founder Alexis Ohanian as part of his national tour to present his new book “Without Their Permission.”  He’ll explore the current potential for online entrepreneurship\, advise students who have dreams of launching startups\, and offer tips for using the internet to catapult grassroots campaigns. \nBooks will be available at Rice Bookstore — pick up your copy and bring it to the event!
URL:https://www.rcelconnect.org/event/reddit-com-found-alexis-ohanion-talk-and-book-signing/
LOCATION:Duncan Hall
ORGANIZER;CN="Rice Center for Engineering Leadership":MAILTO:rcel@rice.edu
END:VEVENT
BEGIN:VEVENT
DTSTART;TZID=UTC:20140217T180000
DTEND;TZID=UTC:20140217T193000
DTSTAMP:20260424T080653
CREATED:20151105T194638Z
LAST-MODIFIED:20151105T194638Z
UID:1154-1392660000-1392665400@www.rcelconnect.org
SUMMARY:Engineer Your Career!
DESCRIPTION:In recognition of National Engineering Week and as part of REA’s on-going outreach to Rice Engineering graduate and undergrad students\, the Rice Engineering Alumni organization is hosting a panel discussion on career development. \nA group of engineers from industry will discuss technology\, innovation\, and how you can grow your career in technical roles.  Also featured will be a cross-section of leaders from corporations and start-ups\, and they will have broad backgrounds which cover multiple disciplines. \nThis will be a great opportunity to learn more about what engineers do in the field and how your skill sets can be used in the future. \n 
URL:https://www.rcelconnect.org/event/engineer-your-career-2/
LOCATION:Duncan Hall
ORGANIZER;CN="Rice Center for Engineering Leadership":MAILTO:rcel@rice.edu
END:VEVENT
BEGIN:VEVENT
DTSTART;TZID=UTC:20131127T170000
DTEND;TZID=UTC:20131127T200000
DTSTAMP:20260424T080653
CREATED:20151105T195129Z
LAST-MODIFIED:20151105T195129Z
UID:1156-1385571600-1385582400@www.rcelconnect.org
SUMMARY:Engineering ART Contest
DESCRIPTION:More info:  http://art.rcel.rice.edu \nNow is your chance to show how beautiful engineering research can be! RCEL is sponsoring an engineering art contest that’s open to undergraduate and graduate students. These must be static images that are taken from\, relate to or are representative of your research. Winning images will be professionally printed and put on display in Fondren Library.  The deadline is November 27th. Let’s show the campus the beauty of engineering research!
URL:https://www.rcelconnect.org/event/engineering-art-contest/
LOCATION:Rice University
ORGANIZER;CN="Rice Center for Engineering Leadership":MAILTO:rcel@rice.edu
END:VEVENT
BEGIN:VEVENT
DTSTART;TZID=UTC:20131029T180000
DTEND;TZID=UTC:20131029T210000
DTSTAMP:20260424T080653
CREATED:20151105T195410Z
LAST-MODIFIED:20151106T174704Z
UID:1157-1383069600-1383080400@www.rcelconnect.org
SUMMARY:SCREECH 2013 Graduate Research Pitch Competition
DESCRIPTION:The fast-paced lightning talk competition for graduate research is back. \nSCREECH is an opportunity for graduate students to deliver a 90-second snapshot of their research. Competing participants will highlight the objectives and impact of the diverse graduate research projects being done in Rice University’s School of Engineering. The event aims to connect cutting-edge research with a diverse audience to showcase the unconventional wisdom that exemplifies Rice. \nA panel of judges composed by members of academia and industry will select the winners. Additionally\, attendees can cast their vote for a ‘fan favorite’ award. University-level and Department-level winners will receive hundreds of dollars in prize money.
URL:https://www.rcelconnect.org/event/screech-2013-graduate-research-pitch-competition/
LOCATION:Duncan Hall
ORGANIZER;CN="Rice Center for Engineering Leadership":MAILTO:rcel@rice.edu
END:VEVENT
BEGIN:VEVENT
DTSTART;TZID=UTC:20130921T110000
DTEND;TZID=UTC:20130921T203000
DTSTAMP:20260424T080653
CREATED:20151105T202807Z
LAST-MODIFIED:20151105T202807Z
UID:1162-1379761200-1379795400@www.rcelconnect.org
SUMMARY:RICE LAUNCH Entrepreneurial Summit
DESCRIPTION:Rice Launch will be hosting a day of entrepreneurial workshops followed by a chance to compete in an Investor Pitch competition. The purpose of this event will be to inspire Rice students to be the innovators and entrepreneurs of tomorrow. The event will not only help teams learn about ideation and business development\, but prepare them to start ventures both on campus and beyond as well. \nWho are we seeking? Anyone and everyone interested in learning about business and entrepreneurship. If you don’t have an idea\, no problem! If you do have an idea\, you can help those that don’t! Everyone will sign up as an individual and be placed into teams of 5-6 during the summit based on industry of interest. If you have an idea\, be sure to bring it to the summit and share with people that don’t. \nFor those that do not currently have one in mind\, there will be a long list of possible ideas provided for the purpose of going through the workshop to work towards presenting that idea in the competition. \nThe summit lasts from 11:00am to 8:30pm with free lunch and dinner provided. Prize money will be given to the top three teams at the end of the elevator pitch. We look forward to seeing all of you come out and proving that Rice students have what it takes to be successful entrepreneurs!
URL:https://www.rcelconnect.org/event/rice-launch-entrepreneurial-summit-2/
LOCATION:Rice University
ORGANIZER;CN="Rice Center for Engineering Leadership":MAILTO:rcel@rice.edu
END:VEVENT
BEGIN:VEVENT
DTSTART;TZID=UTC:20130911T180000
DTEND;TZID=UTC:20130911T200000
DTSTAMP:20260424T080653
CREATED:20151105T203003Z
LAST-MODIFIED:20151105T203003Z
UID:1163-1378922400-1378929600@www.rcelconnect.org
SUMMARY:Strategies for Finding Engineering Internships
DESCRIPTION:Need an internship for next summer?\nIt’s not too early to start working on it! \nGet tips from experts so you can land a great internship and make the most of it.
URL:https://www.rcelconnect.org/event/strategies-for-finding-engineering-internships/
LOCATION:Duncan Hall
ORGANIZER;CN="Rice Center for Engineering Leadership":MAILTO:rcel@rice.edu
END:VEVENT
BEGIN:VEVENT
DTSTART;TZID=UTC:20130904T130000
DTEND;TZID=UTC:20130904T180000
DTSTAMP:20260424T080653
CREATED:20151105T203258Z
LAST-MODIFIED:20151106T174558Z
UID:1164-1378299600-1378317600@www.rcelconnect.org
SUMMARY:Engineering Liftoff 2013 (Freshmen Orientation)
DESCRIPTION:12:30-1pm: Sign in (EAT LUNCH BEFORE YOU ARRIVE)\n1:00-5pm: Engineering activities and competition\n5:00-6pm: Dinner and socializing \n– Tackle a fun engineering challenge\n– Meet faculty and friends\n– Enjoy a festive Tex-Mex dinner with new engineering students!\n– Eligible to WIN AN IPAD door prize!
URL:https://www.rcelconnect.org/event/engineering-liftoff-2013-freshmen-orientation/
LOCATION:Rice University
ORGANIZER;CN="Rice Center for Engineering Leadership":MAILTO:rcel@rice.edu
END:VEVENT
BEGIN:VEVENT
DTSTART;TZID=UTC:20130502T180000
DTEND;TZID=UTC:20130502T210000
DTSTAMP:20260424T080653
CREATED:20151105T203748Z
LAST-MODIFIED:20151105T203748Z
UID:1165-1367517600-1367528400@www.rcelconnect.org
SUMMARY:Rice Undergraduate Venture Challenge (RUVC)
DESCRIPTION:Sponsored by:\nRice Business Collaborative\nRachel and Bruce Deskin\nOshman Engineering Design Kitchen\nRice Alliance for Technology and Entrepreneurship\nRice Center for Engineering Leadership\n\n\n\n\n\n\n\n\nRice Undergraduate teams present executive summaries and commercialization plans for ideas/ventures they have developed during the previous year\, followed by 5 minutes of questions.  Organized by undergraduates every May and presented the the Shell Auditorium at the Jones School.
URL:https://www.rcelconnect.org/event/rice-undergraduate-venture-challenge-ruvc/
LOCATION:Shell Auditorium\, Jones School
ORGANIZER;CN="Rice Center for Engineering Leadership":MAILTO:rcel@rice.edu
END:VEVENT
BEGIN:VEVENT
DTSTART;TZID=UTC:20130418T173000
DTEND;TZID=UTC:20130418T203000
DTSTAMP:20260424T080653
CREATED:20151105T204109Z
LAST-MODIFIED:20151105T214124Z
UID:1166-1366306200-1366317000@www.rcelconnect.org
SUMMARY:Graduate Half-Pint of Research
DESCRIPTION:Join fellow grad students at Valhalla to talk about your research for three minutes… then gab a free beer!  Bring your friends\, colleagues\, advisors\, chairs\, dogs\, cats\, and undergrads. Organized by RCEL Graduate Committee.
URL:https://www.rcelconnect.org/event/graduate-half-pint-of-research/
LOCATION:Rice University
ORGANIZER;CN="Rice Center for Engineering Leadership":MAILTO:rcel@rice.edu
END:VEVENT
BEGIN:VEVENT
DTSTART;TZID=UTC:20130317T170000
DTEND;TZID=UTC:20130317T190000
DTSTAMP:20260424T080653
CREATED:20151105T214446Z
LAST-MODIFIED:20151105T214446Z
UID:1168-1363539600-1363546800@www.rcelconnect.org
SUMMARY:Undergraduate-organized Leadership Lab
DESCRIPTION:This first ever student-organized RCEL  “Engineering Leadership Lab”  will take place in the OEDK classroom from 5-7 PM on Sunday\, March 17th. \nThirty students will be divided into 6 teams of 5 participants\, and each team member will have a turn at leading an individual activity. \nThere will be a brief introduction before the activities in which leadership advice will be given. However\, the training chiefly comes through one-on-one feedback from upperclass evaluators. At the end of the session\, every participant will receive personalized feedback on their own leadership performance. \nThe lab will include: \n\n5 fun small-scale competitions with prizes\nSt. Paddy’s day theme\nDelicious dinner w/ St. Paddy’s day dessert\nPersonalized feedback from teammates and qualified engineering student leaders
URL:https://www.rcelconnect.org/event/undergraduate-organized-leadership-lab/
LOCATION:OEDK
ORGANIZER;CN="Rice Center for Engineering Leadership":MAILTO:rcel@rice.edu
END:VEVENT
BEGIN:VEVENT
DTSTART;TZID=UTC:20130227T080000
DTEND;TZID=UTC:20130302T170000
DTSTAMP:20260424T080653
CREATED:20151105T220522Z
LAST-MODIFIED:20151105T223229Z
UID:1172-1361952000-1362243600@www.rcelconnect.org
SUMMARY:2013 IGNITE Silicon Valley Trek
DESCRIPTION:RCEL will subsidize up to 10 engineering graduate students\nto participate in the Ignite! Entrepreneurship Conference\nin California over Spring Break (Wed 27 Feb – Sat 2 March).\nCome visit start-ups and venture capitalists in Silicon\nValley (visits are planned to Facebook\, Google\, Tesla\nMotors\, Kleiner-Perkins)\, followed by two days of\npresentations from successful entrepreneurs such as\nNicholas Seet on the UC Davis Campus.
URL:https://www.rcelconnect.org/event/2012-ignite-silicon-valley-trek/
LOCATION:Silicon Valley
ORGANIZER;CN="Rice Center for Engineering Leadership":MAILTO:rcel@rice.edu
END:VEVENT
BEGIN:VEVENT
DTSTART;TZID=UTC:20130219T040000
DTEND;TZID=UTC:20130219T170000
DTSTAMP:20260424T080653
CREATED:20151105T220812Z
LAST-MODIFIED:20151106T174959Z
UID:1174-1361246400-1361293200@www.rcelconnect.org
SUMMARY:Bill Richardson\, former Secretary of Energy\, meets with RCEL students
DESCRIPTION:Bill Richardson\, former Secretary of Energy and Governor of New Mexico\, will be visiting Rice for a talk next Tuesday evening. \nHe has agreed to meet with students from the Baker Institute and RCEL at 4pm.  Are you interested in energy policy?  This is a great opportunity to interact up-close with someone who has crafted national policy\, governed a state for eight years\, and run for president. \nWe encourage all students to take advantage of this special\nopportunity!  Register here!
URL:https://www.rcelconnect.org/event/bill-richardson-former-secretary-of-energy-meets-with-rcel-students/
ORGANIZER;CN="Rice Center for Engineering Leadership":MAILTO:rcel@rice.edu
END:VEVENT
BEGIN:VEVENT
DTSTART;TZID=UTC:20130206T120000
DTEND;TZID=UTC:20130206T130000
DTSTAMP:20260424T080653
CREATED:20151105T221536Z
LAST-MODIFIED:20151105T221536Z
UID:1175-1360152000-1360155600@www.rcelconnect.org
SUMMARY:RCEL IMPACT LAB: How to Deliver and Elevator Pitch
DESCRIPTION:Come\, practice and get professional training!
URL:https://www.rcelconnect.org/event/rcel-impact-lab-how-to-deliver-and-elevator-pitch/
LOCATION:Duncan Hall
ORGANIZER;CN="Rice Center for Engineering Leadership":MAILTO:rcel@rice.edu
END:VEVENT
BEGIN:VEVENT
DTSTART;TZID=UTC:20130126T110000
DTEND;TZID=UTC:20130126T200000
DTSTAMP:20260424T080653
CREATED:20151106T170837Z
LAST-MODIFIED:20151106T170837Z
UID:1178-1359198000-1359230400@www.rcelconnect.org
SUMMARY:OWLSquad First Entrepreneurial Summit
DESCRIPTION:A group of students calling itself OwlSquad is putting together Rice’s first Entrepreneurship Summit for January 26th. \nThis event is for students from across campus\, so get your friends from the Business School or Natural Sciences and spend your Saturday learning something new\, like how to take calculated risks in your field and how to turn your passion into a successful company. You’ll have mentors\, panelists and and workshop leaders who will help you learn best practices in entrepreneurship. And there will be cash prizes! \nRegister by Wednesday\, January 23 and find out more here
URL:https://www.rcelconnect.org/event/owlsquad-first-entrepreneurial-summit/
LOCATION:Rice University
ORGANIZER;CN="Rice Center for Engineering Leadership":MAILTO:rcel@rice.edu
END:VEVENT
BEGIN:VEVENT
DTSTART;TZID=UTC:20130125T140000
DTEND;TZID=UTC:20130125T153000
DTSTAMP:20260424T080653
CREATED:20151106T171059Z
LAST-MODIFIED:20151106T171059Z
UID:1179-1359122400-1359127800@www.rcelconnect.org
SUMMARY:NBC Science Correspondent Robert Bazell
DESCRIPTION:On Friday 25 January\, NBC science correspondent Robert Bazell will be visiting Rice (Baker Institute/RCEL/Natural Sciences).  From 2:00-3:30pm\, he will speak with RCEL undergraduates and graduate students about how to present science/engineering topics ways accessible to the general public.
URL:https://www.rcelconnect.org/event/nbc-science-correspondent-robert-bazell/
LOCATION:OEDK
ORGANIZER;CN="Rice Center for Engineering Leadership":MAILTO:rcel@rice.edu
END:VEVENT
BEGIN:VEVENT
DTSTART;TZID=UTC:20121115T180000
DTEND;TZID=UTC:20121115T210000
DTSTAMP:20260424T080653
CREATED:20151106T171325Z
LAST-MODIFIED:20151106T171325Z
UID:1180-1353002400-1353013200@www.rcelconnect.org
SUMMARY:4th Annual Undergraduate Elevator Pitch Competition
DESCRIPTION:Don’t miss the chance to enter Rice’s first undergraduate entrepreneurship competition of the year! This competition is open to ANY undergraduate student or undergraduate team with a business concept or idea. Entries may be at any stage of development. Teams or individuals will present 90-second pitches for their concept. The pitches will describe the designs\, the problem or need being solved\, the competitive advantages\, and the commercial potential of the venture. The top 6-8 teams will win cash prizes based on the judges’ scores.  \nCoaching will be required of all participants and will be offered on November 12\, 13 and 14. Coaching information and how to sign up can be found on the Student Information page.
URL:https://www.rcelconnect.org/event/4th-annual-undergraduate-elevator-pitch-competition/
LOCATION:Shell Auditorium\, Jones School
ORGANIZER;CN="Rice Center for Engineering Leadership":MAILTO:rcel@rice.edu
END:VEVENT
BEGIN:VEVENT
DTSTART;TZID=UTC:20121113T150000
DTEND;TZID=UTC:20121113T160000
DTSTAMP:20260424T080653
CREATED:20151106T172125Z
LAST-MODIFIED:20151106T172125Z
UID:1182-1352818800-1352822400@www.rcelconnect.org
SUMMARY:Dr Subra Suresh\, Director of the National Science Foundation
DESCRIPTION:Dr. Suresh\, a visitor to the Baker Institute’s Civic Scientist program\, will be meeting with engaged RCEL students. Students are invited to join in what promises to be a lively conversation.  Dr. Suresh\, formerly Dean of Engineering at MIT\, will be discussing the intersection of science/engineering with\npublic policy.  It should be an excellent discussion.
URL:https://www.rcelconnect.org/event/dr-subra-suresh-director-of-the-national-science-foundation/
LOCATION:Rice University
ORGANIZER;CN="Rice Center for Engineering Leadership":MAILTO:rcel@rice.edu
END:VEVENT
BEGIN:VEVENT
DTSTART;TZID=UTC:20121108T120000
DTEND;TZID=UTC:20121108T130000
DTSTAMP:20260424T080653
CREATED:20151106T172315Z
LAST-MODIFIED:20151106T172315Z
UID:1183-1352376000-1352379600@www.rcelconnect.org
SUMMARY:Nan Bouchard\, Boeing Corp: Lunch and Learn
DESCRIPTION:In “My Life After Rice\,” Nan Bouchard\, vice president of program management for Boeing Defense\, Space\, Security will detail her personal journey as a chemical engineering major from Rice University and her career at The Boeing Company\, the world’s largest aerospace company. She will provide insights into how her time at Rice impacted her career and how a chemical engineering major achieved success in aerospace. Space is limited. RSVP by Tuesday\, November 6\, 2012 at https://engrice.wufoo.com/forms/lunch-and-learn-with-nan-bouchard-of-boeing-corp/
URL:https://www.rcelconnect.org/event/nan-bouchard-boeing-corp-lunch-and-learn/
LOCATION:Duncan Hall
ORGANIZER;CN="Rice Center for Engineering Leadership":MAILTO:rcel@rice.edu
END:VEVENT
BEGIN:VEVENT
DTSTART;TZID=UTC:20121026T150000
DTEND;TZID=UTC:20121026T170000
DTSTAMP:20260424T080653
CREATED:20151106T172535Z
LAST-MODIFIED:20151106T172535Z
UID:1184-1351263600-1351270800@www.rcelconnect.org
SUMMARY:How to Write a Winning NSF/NDSEG Fellowship Application
DESCRIPTION:Overview of writing a grant proposal\nReview criteria for NSF and NDSEG\nWhat to include in each section\nHow to write each section clearly and persuasively\nHow to avoid plagiarism\nAnalysis of a sample NSF proposal\n\nFor this workshop\, bring a brief summary of the research you propose to do.  Identify the university and professor you would like to work with.
URL:https://www.rcelconnect.org/event/how-to-write-a-winning-nsfndseg-fellowship-application/
LOCATION:Rice University
ORGANIZER;CN="Rice Center for Engineering Leadership":MAILTO:rcel@rice.edu
END:VEVENT
BEGIN:VEVENT
DTSTART;TZID=UTC:20121019T150000
DTEND;TZID=UTC:20121019T170000
DTSTAMP:20260424T080653
CREATED:20151106T172721Z
LAST-MODIFIED:20151106T172721Z
UID:1185-1350658800-1350666000@www.rcelconnect.org
SUMMARY:RCEL IMPACT LAB: Network Like a Pro
DESCRIPTION:Have you ever attended a networking event or reception and felt uneasy about approaching people or introducing yourself?  Do you think that networking is something that only a few people know how to do well?  If so\, then join us for Network Like a Pro\, a new RCEL workshop that will teach you how to make personal connections and leverage networks to solve problems and increase your impact. \nProfessors Tracy Volz and David Niño will lead this workshop\, which is part of a new engineering leadership series called Impact Labs. \nYou will: \n\ndiscover why networks are important to professional engineers\nengage in networking activities\nrefine your personal pitch\ndevelop your “leadership presence”\nlearn how to “work a room”
URL:https://www.rcelconnect.org/event/rcel-impact-lab-network-like-a-pro/
LOCATION:Duncan Hall
ORGANIZER;CN="Rice Center for Engineering Leadership":MAILTO:rcel@rice.edu
END:VEVENT
BEGIN:VEVENT
DTSTART;TZID=UTC:20121004T170000
DTEND;TZID=UTC:20121004T200000
DTSTAMP:20260424T080653
CREATED:20151106T172909Z
LAST-MODIFIED:20151106T172909Z
UID:1186-1349370000-1349380800@www.rcelconnect.org
SUMMARY:SCREECH Graduate Elevator Pitch Competition 2012
DESCRIPTION:Rice Engineering Graduate Students! What could you do in 90 seconds? Watch an online video? Compose an e-mail? Sing the national anthem?How about using that time to convince everyone that your research project is the coolest thing on the planet? \nIn this competition\, you’ll be doing just that! \nWe’ll give you a chance to deliver your screech: 90 seconds and a single slide to talk about your research. If you give the best screech in your department\, you’ll win hundreds of dollars! \nClick here for more info
URL:https://www.rcelconnect.org/event/screech-graduate-elevator-pitch-competition-2012/
LOCATION:Duncan Hall
ORGANIZER;CN="Rice Center for Engineering Leadership":MAILTO:rcel@rice.edu
END:VEVENT
BEGIN:VEVENT
DTSTART;TZID=UTC:20120921T120000
DTEND;TZID=UTC:20120923T180000
DTSTAMP:20260424T080653
CREATED:20151106T173117Z
LAST-MODIFIED:20151106T173117Z
UID:1187-1348228800-1348423200@www.rcelconnect.org
SUMMARY:CleanWeb Hackathon
DESCRIPTION:Cleanweb is about applying software solutions to resource problems– in energy\, water\, waste\, transit\, food\, air\, and other areas– by taking advantage of the powerful trends in cheap computing power\, mobility\, data availability\, and social graphs. \nJoin us 9/21-9/23 as techies\, designers\, subject matter experts\, users\, and other Cleanweb enthusiasts gather to define the most pressing Cleanweb challenges\, hack together solutions\, and present these killer web and mobile apps to the world by the end of the weekend. \nMore info: http://houston.cleanweb.co/
URL:https://www.rcelconnect.org/event/cleanweb-hackathon/
LOCATION:Duncan Hall
ORGANIZER;CN="Rice Center for Engineering Leadership":MAILTO:rcel@rice.edu
END:VEVENT
BEGIN:VEVENT
DTSTART;TZID=UTC:20120727T163000
DTEND;TZID=UTC:20120727T173000
DTSTAMP:20260424T080653
CREATED:20151106T173342Z
LAST-MODIFIED:20151106T174350Z
UID:1189-1343406600-1343410200@www.rcelconnect.org
SUMMARY:2012 City of Houston Internship Project Report
DESCRIPTION:RCEL 2012 Summer Interns worked with COH’s Department of Neighborhoods to create an advanced prototype using Google mapping technologies for future COH graphical user interfaces into city services. Students presented their final report to Mayor Annise Parker\, Rice President David Leebron and other city and university officials in the Butcher Hall Visualization Center using new “viz wall” technology.  Video and additional information will be posted soon.
URL:https://www.rcelconnect.org/event/certificate-in-engineering-leadership-internships-graduate-courses-communications-entrepreneurship-complete-conference-2014-design-community-outreach-events-news/
LOCATION:Rice University
ORGANIZER;CN="Rice Center for Engineering Leadership":MAILTO:rcel@rice.edu
END:VEVENT
BEGIN:VEVENT
DTSTART;TZID=UTC:20120412T160000
DTEND;TZID=UTC:20120412T200000
DTSTAMP:20260424T080653
CREATED:20151106T173549Z
LAST-MODIFIED:20151106T173549Z
UID:1190-1334246400-1334260800@www.rcelconnect.org
SUMMARY:2012 Engineering Design Showcase and Poster Session
DESCRIPTION:SAVE THE DATE! More information about the 2012 Engineering Design Showcase and Poster Session will be coming soon!
URL:https://www.rcelconnect.org/event/2012-engineering-design-showcase-and-poster-session/
LOCATION:Rice University
END:VEVENT
BEGIN:VEVENT
DTSTART;TZID=UTC:20120328T090000
DTEND;TZID=UTC:20120328T180000
DTSTAMP:20260424T080653
CREATED:20151105T215026Z
LAST-MODIFIED:20151105T215026Z
UID:1171-1332925200-1332957600@www.rcelconnect.org
SUMMARY:National Instruments Leadership Day
DESCRIPTION:National Instruments hosts a day of events at Rice called “NI Leaders” during which several company leaders will give talks about how to be a leader\, drive innovation\, and get hired in today’s industry. Top engineering students are invited to the talks\, based on professor recommendations.
URL:https://www.rcelconnect.org/event/national-instruments-leadership-day-2/
LOCATION:Duncan Hall
ORGANIZER;CN="Rice Center for Engineering Leadership":MAILTO:rcel@rice.edu
END:VEVENT
BEGIN:VEVENT
DTSTART;TZID=UTC:20120306T160000
DTEND;TZID=UTC:20120306T173000
DTSTAMP:20260424T080653
CREATED:20151106T173917Z
LAST-MODIFIED:20151106T173917Z
UID:1192-1331049600-1331055000@www.rcelconnect.org
SUMMARY:Writing an Abstract for the Rice Undergraduate Research Symposium
DESCRIPTION:Taught by Dr. Jan Hewitt\, Rice Center for Engineering Leadership
URL:https://www.rcelconnect.org/event/writing-an-abstract-for-the-rice-undergraduate-research-symposium/
LOCATION:Rice University
ORGANIZER;CN="Rice Center for Engineering Leadership":MAILTO:rcel@rice.edu
END:VEVENT
END:VCALENDAR