BEGIN:VCALENDAR
VERSION:2.0
PRODID:-//Rice Center for Engineering Leadership - ECPv6.15.15//NONSGML v1.0//EN
CALSCALE:GREGORIAN
METHOD:PUBLISH
X-ORIGINAL-URL:https://www.rcelconnect.org
X-WR-CALDESC:Events for Rice Center for Engineering Leadership
REFRESH-INTERVAL;VALUE=DURATION:PT1H
X-Robots-Tag:noindex
X-PUBLISHED-TTL:PT1H
BEGIN:VTIMEZONE
TZID:UTC
BEGIN:STANDARD
TZOFFSETFROM:+0000
TZOFFSETTO:+0000
TZNAME:UTC
DTSTART:20150101T000000
END:STANDARD
END:VTIMEZONE
BEGIN:VEVENT
DTSTART;TZID=UTC:20161119T173000
DTEND;TZID=UTC:20161119T190000
DTSTAMP:20260424T043104
CREATED:20161104T184324Z
LAST-MODIFIED:20161104T184324Z
UID:1875-1479576600-1479582000@www.rcelconnect.org
SUMMARY:REA Trivia Night and Dinner at Rice!
DESCRIPTION:The Rice Engineering Alumni (REA) is hosting a Trivia Night at Rice and you’re invited! Open to all engineering majors and years\, teams of REA members and Rice students will compete to answer trivia is engineering\, history\, pop culture\, and more! Prizes will be awarded to the winning team with bragging rights going to the winning major.  \nAnd did we mention the food? Because there will be FREE DINNER served! \nThis event is sponsored by the Rice Engineering Alumni and the Rice Center for Engineering Leadership. P
URL:https://www.rcelconnect.org/event/rea-trivia-night-and-dinner-at-rice/
LOCATION:Brockman Portico – Rice University
CATEGORIES:Events,Rice Center for Engineering Leadership,Rice Engineering Alumni
ATTACH;FMTTYPE=image/jpeg:https://www.rcelconnect.org/wp-content/uploads/2016/11/REA-Trivia-NightDeans-Message-Graphic-01.jpg
END:VEVENT
END:VCALENDAR