BEGIN:VCALENDAR
VERSION:2.0
PRODID:-//Rice Center for Engineering Leadership - ECPv6.15.15//NONSGML v1.0//EN
CALSCALE:GREGORIAN
METHOD:PUBLISH
X-WR-CALNAME:Rice Center for Engineering Leadership
X-ORIGINAL-URL:https://www.rcelconnect.org
X-WR-CALDESC:Events for Rice Center for Engineering Leadership
REFRESH-INTERVAL;VALUE=DURATION:PT1H
X-Robots-Tag:noindex
X-PUBLISHED-TTL:PT1H
BEGIN:VTIMEZONE
TZID:UTC
BEGIN:STANDARD
TZOFFSETFROM:+0000
TZOFFSETTO:+0000
TZNAME:UTC
DTSTART:20150101T000000
END:STANDARD
END:VTIMEZONE
BEGIN:VEVENT
DTSTART;TZID=UTC:20160302T080000
DTEND;TZID=UTC:20160305T170000
DTSTAMP:20260424T021344
CREATED:20151112T163056Z
LAST-MODIFIED:20151124T224209Z
UID:1236-1456905600-1457197200@www.rcelconnect.org
SUMMARY:Ignite 2015 Silicon Valley Trek
DESCRIPTION:APPLY HERE\nAPPLICATION DEADLINE:\n5:00 P.M. FRIDAY\, DECEMBER 11\, 2015\n 
URL:https://www.rcelconnect.org/event/ignite-2015-silicon-valley-trek/
CATEGORIES:Rice Alliance for Technology and Entrepreneurship,Rice Center for Engineering Leadership
ATTACH;FMTTYPE=image/jpeg:https://www.rcelconnect.org/wp-content/uploads/2015/11/General-Ignite-2016-Flyer-visual-versionENGI-VERSION-AP.jpg
ORGANIZER;CN="Rice Center for Engineering Leadership":MAILTO:rcel@rice.edu
END:VEVENT
END:VCALENDAR